BEGIN:VCALENDAR
VERSION:2.0
PRODID:-//Bürgerschützen Lengerich 1810 e. V. - ECPv6.15.20//NONSGML v1.0//EN
CALSCALE:GREGORIAN
METHOD:PUBLISH
X-ORIGINAL-URL:https://bsl1810.de
X-WR-CALDESC:Veranstaltungen für Bürgerschützen Lengerich 1810 e. V.
REFRESH-INTERVAL;VALUE=DURATION:PT1H
X-Robots-Tag:noindex
X-PUBLISHED-TTL:PT1H
BEGIN:VTIMEZONE
TZID:Europe/Helsinki
BEGIN:DAYLIGHT
TZOFFSETFROM:+0200
TZOFFSETTO:+0300
TZNAME:EEST
DTSTART:20170326T010000
END:DAYLIGHT
BEGIN:STANDARD
TZOFFSETFROM:+0300
TZOFFSETTO:+0200
TZNAME:EET
DTSTART:20171029T010000
END:STANDARD
BEGIN:DAYLIGHT
TZOFFSETFROM:+0200
TZOFFSETTO:+0300
TZNAME:EEST
DTSTART:20180325T010000
END:DAYLIGHT
BEGIN:STANDARD
TZOFFSETFROM:+0300
TZOFFSETTO:+0200
TZNAME:EET
DTSTART:20181028T010000
END:STANDARD
BEGIN:DAYLIGHT
TZOFFSETFROM:+0200
TZOFFSETTO:+0300
TZNAME:EEST
DTSTART:20190331T010000
END:DAYLIGHT
BEGIN:STANDARD
TZOFFSETFROM:+0300
TZOFFSETTO:+0200
TZNAME:EET
DTSTART:20191027T010000
END:STANDARD
END:VTIMEZONE
BEGIN:VEVENT
DTSTART;TZID=Europe/Helsinki:20180908T160000
DTEND;TZID=Europe/Helsinki:20180908T160000
DTSTAMP:20260421T153018
CREATED:20180830T115721Z
LAST-MODIFIED:20180907T130716Z
UID:723-1536422400-1536422400@bsl1810.de
SUMMARY:Scheibenhängen des SV Aldrup
DESCRIPTION:Wir treffen uns in Uniform mit Hut um 16:00 Uhr vor dem Schuhhaus Neyer. \n 
URL:https://bsl1810.de/veranstaltung/scheibenhaengen-des-sv-aldrup
END:VEVENT
BEGIN:VEVENT
DTSTART;TZID=Europe/Helsinki:20180911T190000
DTEND;TZID=Europe/Helsinki:20180911T210000
DTSTAMP:20260421T153018
CREATED:20180825T204706Z
LAST-MODIFIED:20180825T204751Z
UID:717-1536692400-1536699600@bsl1810.de
SUMMARY:Übungsschießen KK und Luftgewehr
DESCRIPTION:
URL:https://bsl1810.de/veranstaltung/uebungsschiessen
LOCATION:Scheibenstand am Berg\, Am Kleeberg 32\, Lengerich\, NRW\, 49525\, Deutschland
END:VEVENT
BEGIN:VEVENT
DTSTART;TZID=Europe/Helsinki:20180925T183000
DTEND;TZID=Europe/Helsinki:20180925T203000
DTSTAMP:20260421T153018
CREATED:20180925T135215Z
LAST-MODIFIED:20180925T135225Z
UID:734-1537900200-1537907400@bsl1810.de
SUMMARY:Übungsschießen
DESCRIPTION:
URL:https://bsl1810.de/veranstaltung/uebungsschiessen-2
LOCATION:Scheibenstand am Berg\, Am Kleeberg 32\, Lengerich\, NRW\, 49525\, Deutschland
END:VEVENT
END:VCALENDAR