BEGIN:VCALENDAR
VERSION:2.0
PRODID:-//Bürgerschützen Lengerich 1810 e. V. - ECPv6.15.20//NONSGML v1.0//EN
CALSCALE:GREGORIAN
METHOD:PUBLISH
X-ORIGINAL-URL:https://bsl1810.de
X-WR-CALDESC:Veranstaltungen für Bürgerschützen Lengerich 1810 e. V.
REFRESH-INTERVAL;VALUE=DURATION:PT1H
X-Robots-Tag:noindex
X-PUBLISHED-TTL:PT1H
BEGIN:VTIMEZONE
TZID:Europe/Helsinki
BEGIN:DAYLIGHT
TZOFFSETFROM:+0200
TZOFFSETTO:+0300
TZNAME:EEST
DTSTART:20170326T010000
END:DAYLIGHT
BEGIN:STANDARD
TZOFFSETFROM:+0300
TZOFFSETTO:+0200
TZNAME:EET
DTSTART:20171029T010000
END:STANDARD
BEGIN:DAYLIGHT
TZOFFSETFROM:+0200
TZOFFSETTO:+0300
TZNAME:EEST
DTSTART:20180325T010000
END:DAYLIGHT
BEGIN:STANDARD
TZOFFSETFROM:+0300
TZOFFSETTO:+0200
TZNAME:EET
DTSTART:20181028T010000
END:STANDARD
BEGIN:DAYLIGHT
TZOFFSETFROM:+0200
TZOFFSETTO:+0300
TZNAME:EEST
DTSTART:20190331T010000
END:DAYLIGHT
BEGIN:STANDARD
TZOFFSETFROM:+0300
TZOFFSETTO:+0200
TZNAME:EET
DTSTART:20191027T010000
END:STANDARD
END:VTIMEZONE
BEGIN:VTIMEZONE
TZID:UTC
BEGIN:STANDARD
TZOFFSETFROM:+0000
TZOFFSETTO:+0000
TZNAME:UTC
DTSTART:20170101T000000
END:STANDARD
END:VTIMEZONE
BEGIN:VEVENT
DTSTART;TZID=Europe/Helsinki:20180814T180000
DTEND;TZID=Europe/Helsinki:20180814T180000
DTSTAMP:20260421T165954
CREATED:20180811T083554Z
LAST-MODIFIED:20180811T083554Z
UID:399-1534269600-1534269600@bsl1810.de
SUMMARY:Herrichten der Schützenhalle
DESCRIPTION:Bitte Putzsachen mitbringen. Nach getaner Arbeit gibt es einen Imbiss. 
URL:https://bsl1810.de/veranstaltung/herrichten-der-schuetzenhalle
LOCATION:Scheibenstand am Berg\, Am Kleeberg 32\, Lengerich\, NRW\, 49525\, Deutschland
END:VEVENT
BEGIN:VEVENT
DTSTART;TZID=UTC:20180817T181500
DTEND;TZID=UTC:20180817T181500
DTSTAMP:20260421T165954
CREATED:20180807T132533Z
LAST-MODIFIED:20180811T083947Z
UID:51-1534529700-1534529700@bsl1810.de
SUMMARY:Kommers
DESCRIPTION:
URL:https://bsl1810.de/veranstaltung/kommers
LOCATION:Gempt-Bistro\, Fritz-Gempt-Straße 1\, Lengerich\, 49525
END:VEVENT
BEGIN:VEVENT
DTSTART;TZID=UTC:20180818T150000
DTEND;TZID=UTC:20180818T150000
DTSTAMP:20260421T165954
CREATED:20180807T125356Z
LAST-MODIFIED:20180816T123845Z
UID:53-1534604400-1534604400@bsl1810.de
SUMMARY:Schützenfest 2018
DESCRIPTION:15.00 Beginn der Schießwettbewerbe und Kaffeetafel. \n16.00 Uhr Empfang der Gastvereine und Blasmusik vom SuB  Express aus Ascheberg. \n19.00 Uhr Königsproklamation mit anschl. Königsbier.
URL:https://bsl1810.de/veranstaltung/schuetzenfest-2018
LOCATION:Scheibenstand am Berg\, Am Kleeberg 32\, Lengerich\, NRW\, 49525\, Deutschland
CATEGORIES:Schützenfest
ATTACH;FMTTYPE=image/png:https://bsl1810.de/wp-content/uploads/2018/08/adler.png
END:VEVENT
BEGIN:VEVENT
DTSTART;TZID=UTC:20180820T164500
DTEND;TZID=UTC:20180820T164500
DTSTAMP:20260421T165954
CREATED:20180807T190526Z
LAST-MODIFIED:20180816T122514Z
UID:329-1534783500-1534783500@bsl1810.de
SUMMARY:Königsausfahrt mit der neuen Majestät
DESCRIPTION:Abfahrt des Busses 17.00 Uhr! Rückkehr gegen 22.30 Uhr.
URL:https://bsl1810.de/veranstaltung/koenigsausfahrt-mit-der-neuen-majestaet-damenprogramm
LOCATION:Birkenkrug Lengerich\, Falkenweg\, Tecklenburger Str. 29\, Lengerich\, 49525
CATEGORIES:Königsausfahrt
END:VEVENT
BEGIN:VEVENT
DTSTART;TZID=UTC:20180821T180000
DTEND;TZID=UTC:20180821T180000
DTSTAMP:20260421T165954
CREATED:20180807T195652Z
LAST-MODIFIED:20180808T071337Z
UID:352-1534874400-1534874400@bsl1810.de
SUMMARY:Schützenfest-Auskehr
DESCRIPTION:Aufräumen und Reinigen der Schützenhalle und des Scheibenstandes\, Ausklang mit anschließendem Imbiss
URL:https://bsl1810.de/veranstaltung/schuetzenfest-auskehr
LOCATION:Scheibenstand am Berg\, Am Kleeberg 32\, Lengerich\, NRW\, 49525\, Deutschland
END:VEVENT
BEGIN:VEVENT
DTSTART;TZID=Europe/Helsinki:20180829T150000
DTEND;TZID=Europe/Helsinki:20180829T173000
DTSTAMP:20260421T165954
CREATED:20180821T124807Z
LAST-MODIFIED:20180821T124807Z
UID:559-1535554800-1535563800@bsl1810.de
SUMMARY:Baustellenbesichtigung Brücke BAB 1
DESCRIPTION:Bitte festes Schuhwerk anziehen und eine Warnjacke  mitbringen. Wegen der wenigen Parkplätze\, bitte Fahrgemeinschaften bilden.
URL:https://bsl1810.de/veranstaltung/baustellenbesichtigung-bruecke-bab-1
LOCATION:Exterheider Damm\, Baustellenplatz
END:VEVENT
END:VCALENDAR