BEGIN:VCALENDAR
VERSION:2.0
PRODID:-//Bürgerschützen Lengerich 1810 e. V. - ECPv6.15.20//NONSGML v1.0//EN
CALSCALE:GREGORIAN
METHOD:PUBLISH
X-WR-CALNAME:Bürgerschützen Lengerich 1810 e. V.
X-ORIGINAL-URL:https://bsl1810.de
X-WR-CALDESC:Veranstaltungen für Bürgerschützen Lengerich 1810 e. V.
REFRESH-INTERVAL;VALUE=DURATION:PT1H
X-Robots-Tag:noindex
X-PUBLISHED-TTL:PT1H
BEGIN:VTIMEZONE
TZID:UTC
BEGIN:STANDARD
TZOFFSETFROM:+0000
TZOFFSETTO:+0000
TZNAME:UTC
DTSTART:20170101T000000
END:STANDARD
END:VTIMEZONE
BEGIN:VEVENT
DTSTART;TZID=UTC:20181118T111500
DTEND;TZID=UTC:20181118T111500
DTSTAMP:20260421T140710
CREATED:20180807T191958Z
LAST-MODIFIED:20181024T105550Z
UID:337-1542539700-1542539700@bsl1810.de
SUMMARY:Gedenkfeier zum Volkstrauertag
DESCRIPTION:Im Anschluss gegen 11:45 – 12:00 Uhr Kranzniederlegung an der Ev. Stadtkirche.
URL:https://bsl1810.de/veranstaltung/gedenkfeier
LOCATION:Zentrales Mahnmal der Stadt Lengerich\, Friedhofsstraße\, Lengerich\, 49525
END:VEVENT
END:VCALENDAR